BEGIN:VCALENDAR
VERSION:2.0
PRODID:-//eventon.com NONSGML v1.0//EN
BEGIN:VEVENT
UID:69eac35ac5f60
DTSTAMP:20260424T021154
DTSTART:20201001T050000Z
DTEND:20201001T180000Z
LOCATION:
SUMMARY:Young Professionals Network: "Global Leader or Global Liability?"
DESCRIPTION: With the upcoming Presidential Election as a backdrop\,  join us to explore the future of the United States' position as a global politics leader.
URL:https://www.yfg.ie/press-statements/events/young-professionals-network-global-leader-or-global-liability/
END:VEVENT
END:VCALENDAR